BEGIN:VCALENDAR
VERSION:2.0
PRODID:-//Northern Virginia Music Teachers Association - ECPv6.15.20//NONSGML v1.0//EN
CALSCALE:GREGORIAN
METHOD:PUBLISH
X-WR-CALNAME:Northern Virginia Music Teachers Association
X-ORIGINAL-URL:https://nvmta.org
X-WR-CALDESC:Events for Northern Virginia Music Teachers Association
REFRESH-INTERVAL;VALUE=DURATION:PT1H
X-Robots-Tag:noindex
X-PUBLISHED-TTL:PT1H
BEGIN:VTIMEZONE
TZID:America/New_York
BEGIN:DAYLIGHT
TZOFFSETFROM:-0500
TZOFFSETTO:-0400
TZNAME:EDT
DTSTART:20250309T070000
END:DAYLIGHT
BEGIN:STANDARD
TZOFFSETFROM:-0400
TZOFFSETTO:-0500
TZNAME:EST
DTSTART:20251102T060000
END:STANDARD
BEGIN:DAYLIGHT
TZOFFSETFROM:-0500
TZOFFSETTO:-0400
TZNAME:EDT
DTSTART:20260308T070000
END:DAYLIGHT
BEGIN:STANDARD
TZOFFSETFROM:-0400
TZOFFSETTO:-0500
TZNAME:EST
DTSTART:20261101T060000
END:STANDARD
BEGIN:DAYLIGHT
TZOFFSETFROM:-0500
TZOFFSETTO:-0400
TZNAME:EDT
DTSTART:20270314T070000
END:DAYLIGHT
BEGIN:STANDARD
TZOFFSETFROM:-0400
TZOFFSETTO:-0500
TZNAME:EST
DTSTART:20271107T060000
END:STANDARD
END:VTIMEZONE
BEGIN:VEVENT
DTSTART;TZID=America/New_York:20260612T100000
DTEND;TZID=America/New_York:20260612T120000
DTSTAMP:20260423T152818
CREATED:20250905T163815Z
LAST-MODIFIED:20250905T164122Z
UID:18550-1781258400-1781265600@nvmta.org
SUMMARY:NVMTA Lecture Series-June
DESCRIPTION:Bonnie Kellert – June 12th\, 2026\, 10 am Eastern time\nTopic: ” How Can I get My Students to Play Like THAT! Attaining a Musical Performance in Young Musicians “
URL:https://nvmta.org/event/lecture-series-june/
CATEGORIES:Teacher Events
END:VEVENT
BEGIN:VEVENT
DTSTART;TZID=America/New_York:20260617T100000
DTEND;TZID=America/New_York:20260617T120000
DTSTAMP:20260423T152818
CREATED:20230619T140049Z
LAST-MODIFIED:20250903T002417Z
UID:11697-1781690400-1781697600@nvmta.org
SUMMARY:NVMTA Executive Board Meeting June 2026
DESCRIPTION:The Zoom link will be emailed the week of the event.
URL:https://nvmta.org/event/nvmta-executive-board-meeting/
CATEGORIES:Teacher Events
END:VEVENT
END:VCALENDAR