BEGIN:VCALENDAR
VERSION:2.0
PRODID:-//Northern Virginia Music Teachers Association - ECPv6.15.20//NONSGML v1.0//EN
CALSCALE:GREGORIAN
METHOD:PUBLISH
X-WR-CALNAME:Northern Virginia Music Teachers Association
X-ORIGINAL-URL:https://nvmta.org
X-WR-CALDESC:Events for Northern Virginia Music Teachers Association
REFRESH-INTERVAL;VALUE=DURATION:PT1H
X-Robots-Tag:noindex
X-PUBLISHED-TTL:PT1H
BEGIN:VTIMEZONE
TZID:America/New_York
BEGIN:DAYLIGHT
TZOFFSETFROM:-0500
TZOFFSETTO:-0400
TZNAME:EDT
DTSTART:20250309T070000
END:DAYLIGHT
BEGIN:STANDARD
TZOFFSETFROM:-0400
TZOFFSETTO:-0500
TZNAME:EST
DTSTART:20251102T060000
END:STANDARD
BEGIN:DAYLIGHT
TZOFFSETFROM:-0500
TZOFFSETTO:-0400
TZNAME:EDT
DTSTART:20260308T070000
END:DAYLIGHT
BEGIN:STANDARD
TZOFFSETFROM:-0400
TZOFFSETTO:-0500
TZNAME:EST
DTSTART:20261101T060000
END:STANDARD
BEGIN:DAYLIGHT
TZOFFSETFROM:-0500
TZOFFSETTO:-0400
TZNAME:EDT
DTSTART:20270314T070000
END:DAYLIGHT
BEGIN:STANDARD
TZOFFSETFROM:-0400
TZOFFSETTO:-0500
TZNAME:EST
DTSTART:20271107T060000
END:STANDARD
END:VTIMEZONE
BEGIN:VEVENT
DTSTART;TZID=America/New_York:20260327T100000
DTEND;TZID=America/New_York:20260327T120000
DTSTAMP:20260423T134638
CREATED:20250905T163628Z
LAST-MODIFIED:20250905T164054Z
UID:18547-1774605600-1774612800@nvmta.org
SUMMARY:NVMTA Lecture Series-March
DESCRIPTION:Barbara Lister- Sink- March 27th\, 2026\, 10 am Eastern time\nTopic: ” How Flexible is Too Flexible?Hypermobility and What Teachers Should Know.”
URL:https://nvmta.org/event/lecture-series-march/
CATEGORIES:Teacher Events
END:VEVENT
END:VCALENDAR