BEGIN:VCALENDAR
VERSION:2.0
PRODID:-//Northern Virginia Music Teachers Association - ECPv6.15.20//NONSGML v1.0//EN
CALSCALE:GREGORIAN
METHOD:PUBLISH
X-WR-CALNAME:Northern Virginia Music Teachers Association
X-ORIGINAL-URL:https://nvmta.org
X-WR-CALDESC:Events for Northern Virginia Music Teachers Association
REFRESH-INTERVAL;VALUE=DURATION:PT1H
X-Robots-Tag:noindex
X-PUBLISHED-TTL:PT1H
BEGIN:VTIMEZONE
TZID:America/New_York
BEGIN:DAYLIGHT
TZOFFSETFROM:-0500
TZOFFSETTO:-0400
TZNAME:EDT
DTSTART:20250309T070000
END:DAYLIGHT
BEGIN:STANDARD
TZOFFSETFROM:-0400
TZOFFSETTO:-0500
TZNAME:EST
DTSTART:20251102T060000
END:STANDARD
BEGIN:DAYLIGHT
TZOFFSETFROM:-0500
TZOFFSETTO:-0400
TZNAME:EDT
DTSTART:20260308T070000
END:DAYLIGHT
BEGIN:STANDARD
TZOFFSETFROM:-0400
TZOFFSETTO:-0500
TZNAME:EST
DTSTART:20261101T060000
END:STANDARD
BEGIN:DAYLIGHT
TZOFFSETFROM:-0500
TZOFFSETTO:-0400
TZNAME:EDT
DTSTART:20270314T070000
END:DAYLIGHT
BEGIN:STANDARD
TZOFFSETFROM:-0400
TZOFFSETTO:-0500
TZNAME:EST
DTSTART:20271107T060000
END:STANDARD
END:VTIMEZONE
BEGIN:VEVENT
DTSTART;TZID=America/New_York:20260225T100000
DTEND;TZID=America/New_York:20260225T120000
DTSTAMP:20260423T173016
CREATED:20200724T162007Z
LAST-MODIFIED:20251103T194727Z
UID:13191-1772013600-1772020800@nvmta.org
SUMMARY:General Meeting NVMTA\, February
DESCRIPTION:Location\nUCP\, 11508 N Shore Dr\, Reston\, VA 20190 \nA zoom link will also be provided.
URL:https://nvmta.org/event/general-meeting-nvmta-february/
CATEGORIES:Teacher Events
END:VEVENT
END:VCALENDAR