BEGIN:VCALENDAR
VERSION:2.0
PRODID:-//Northern Virginia Music Teachers Association - ECPv6.15.20//NONSGML v1.0//EN
CALSCALE:GREGORIAN
METHOD:PUBLISH
X-WR-CALNAME:Northern Virginia Music Teachers Association
X-ORIGINAL-URL:https://nvmta.org
X-WR-CALDESC:Events for Northern Virginia Music Teachers Association
REFRESH-INTERVAL;VALUE=DURATION:PT1H
X-Robots-Tag:noindex
X-PUBLISHED-TTL:PT1H
BEGIN:VTIMEZONE
TZID:America/New_York
BEGIN:DAYLIGHT
TZOFFSETFROM:-0500
TZOFFSETTO:-0400
TZNAME:EDT
DTSTART:20240310T070000
END:DAYLIGHT
BEGIN:STANDARD
TZOFFSETFROM:-0400
TZOFFSETTO:-0500
TZNAME:EST
DTSTART:20241103T060000
END:STANDARD
BEGIN:DAYLIGHT
TZOFFSETFROM:-0500
TZOFFSETTO:-0400
TZNAME:EDT
DTSTART:20250309T070000
END:DAYLIGHT
BEGIN:STANDARD
TZOFFSETFROM:-0400
TZOFFSETTO:-0500
TZNAME:EST
DTSTART:20251102T060000
END:STANDARD
BEGIN:DAYLIGHT
TZOFFSETFROM:-0500
TZOFFSETTO:-0400
TZNAME:EDT
DTSTART:20260308T070000
END:DAYLIGHT
BEGIN:STANDARD
TZOFFSETFROM:-0400
TZOFFSETTO:-0500
TZNAME:EST
DTSTART:20261101T060000
END:STANDARD
END:VTIMEZONE
BEGIN:VEVENT
DTSTART;VALUE=DATE:20251015
DTEND;VALUE=DATE:20251216
DTSTAMP:20260423T232118
CREATED:20180930T211205Z
LAST-MODIFIED:20250907T123725Z
UID:10452-1760486400-1765843199@nvmta.org
SUMMARY:Registration Deadline:  Spring Festival
DESCRIPTION:
URL:https://nvmta.org/event/registration-deadline-spring-festival/
CATEGORIES:Festivals & Recitals,Student Events
END:VEVENT
BEGIN:VEVENT
DTSTART;VALUE=DATE:20251204
DTEND;VALUE=DATE:20251205
DTSTAMP:20260423T232118
CREATED:20180930T204558Z
LAST-MODIFIED:20250905T121246Z
UID:10440-1764806400-1764892799@nvmta.org
SUMMARY:Registration deadline:  Concerto Competition - Piano
DESCRIPTION:More Information
URL:https://nvmta.org/event/registration-deadline-concerto-competition-piano/
CATEGORIES:Student Events
END:VEVENT
BEGIN:VEVENT
DTSTART;VALUE=DATE:20251204
DTEND;VALUE=DATE:20251205
DTSTAMP:20260423T232119
CREATED:20191108T160509Z
LAST-MODIFIED:20250905T121103Z
UID:12700-1764806400-1764892799@nvmta.org
SUMMARY:Registration Deadline--Skills Day
DESCRIPTION:For more information: Skills Day
URL:https://nvmta.org/event/registration-deadline-skills-day/
CATEGORIES:Student Events
END:VEVENT
END:VCALENDAR