BEGIN:VCALENDAR
VERSION:2.0
PRODID:-//Northern Virginia Music Teachers Association - ECPv6.15.20//NONSGML v1.0//EN
CALSCALE:GREGORIAN
METHOD:PUBLISH
X-WR-CALNAME:Northern Virginia Music Teachers Association
X-ORIGINAL-URL:https://nvmta.org
X-WR-CALDESC:Events for Northern Virginia Music Teachers Association
REFRESH-INTERVAL;VALUE=DURATION:PT1H
X-Robots-Tag:noindex
X-PUBLISHED-TTL:PT1H
BEGIN:VTIMEZONE
TZID:America/New_York
BEGIN:DAYLIGHT
TZOFFSETFROM:-0500
TZOFFSETTO:-0400
TZNAME:EDT
DTSTART:20240310T070000
END:DAYLIGHT
BEGIN:STANDARD
TZOFFSETFROM:-0400
TZOFFSETTO:-0500
TZNAME:EST
DTSTART:20241103T060000
END:STANDARD
BEGIN:DAYLIGHT
TZOFFSETFROM:-0500
TZOFFSETTO:-0400
TZNAME:EDT
DTSTART:20250309T070000
END:DAYLIGHT
BEGIN:STANDARD
TZOFFSETFROM:-0400
TZOFFSETTO:-0500
TZNAME:EST
DTSTART:20251102T060000
END:STANDARD
BEGIN:DAYLIGHT
TZOFFSETFROM:-0500
TZOFFSETTO:-0400
TZNAME:EDT
DTSTART:20260308T070000
END:DAYLIGHT
BEGIN:STANDARD
TZOFFSETFROM:-0400
TZOFFSETTO:-0500
TZNAME:EST
DTSTART:20261101T060000
END:STANDARD
END:VTIMEZONE
BEGIN:VEVENT
DTSTART;VALUE=DATE:20251002
DTEND;VALUE=DATE:20251003
DTSTAMP:20260424T033122
CREATED:20180930T205406Z
LAST-MODIFIED:20250904T013025Z
UID:10450-1759363200-1759449599@nvmta.org
SUMMARY:Registration deadline:  General Recitals - October 2025
DESCRIPTION:Information about General Recitals
URL:https://nvmta.org/event/registration-deadline-general-recitals-mar/
CATEGORIES:Student Events
END:VEVENT
BEGIN:VEVENT
DTSTART;VALUE=DATE:20251002
DTEND;VALUE=DATE:20251003
DTSTAMP:20260424T033122
CREATED:20220806T032440Z
LAST-MODIFIED:20250928T132816Z
UID:15493-1759363200-1759449599@nvmta.org
SUMMARY:Registration Deadline - Musical Theatre Competition
DESCRIPTION:Musical Theatre Competition
URL:https://nvmta.org/event/registration-deadline-musical-theatre-competition/
CATEGORIES:NVMTA Competitions,Student Events
END:VEVENT
BEGIN:VEVENT
DTSTART;VALUE=DATE:20251012
DTEND;VALUE=DATE:20251013
DTSTAMP:20260424T033122
CREATED:20180924T174454Z
LAST-MODIFIED:20250904T013307Z
UID:10161-1760227200-1760313599@nvmta.org
SUMMARY:General Recitals-October
DESCRIPTION:Information about General Recitals
URL:https://nvmta.org/event/general-recitals-5/
CATEGORIES:Student Events
END:VEVENT
BEGIN:VEVENT
DTSTART;VALUE=DATE:20251015
DTEND;VALUE=DATE:20251216
DTSTAMP:20260424T033122
CREATED:20180930T211205Z
LAST-MODIFIED:20250907T123725Z
UID:10452-1760486400-1765843199@nvmta.org
SUMMARY:Registration Deadline:  Spring Festival
DESCRIPTION:
URL:https://nvmta.org/event/registration-deadline-spring-festival/
CATEGORIES:Festivals & Recitals,Student Events
END:VEVENT
BEGIN:VEVENT
DTSTART;TZID=America/New_York:20251019T140000
DTEND;TZID=America/New_York:20251019T180000
DTSTAMP:20260424T033122
CREATED:20180921T065707Z
LAST-MODIFIED:20260101T014427Z
UID:9982-1760882400-1760896800@nvmta.org
SUMMARY:Musical Theater Competition
DESCRIPTION:2025 NVMTA Musical Theatre Competition \nCompetition Goal:\nTo give students experience and preparation for the theatre industry’s audition process at every level:  middle school\, high school\, the college audition circuit\, and professional shows.  We warmly welcome students at every level of experience who love their art and would love to gain opportunities for public performance.  The 2025 competition will be held at St. Alban’s Episcopal Church in Annandale\, VA. \n[Due to the short amount of time we have in our venue\, each studio is limited to entering no more than 8 students (total) into this competition. Prior to registering\, please contact the competition chair\, Bharati Soman (bharati@bharatisoman.com)\, to let her know how many students you plan to enter. If there is availability after the initial registration period\, extra slots may be offered to studios who wish to enter more than 8 students.] \nDate\nSunday\, October 19\, 2025\, 2:00pm-6:00pm \nDeadline\nRegistration deadline:  Thursday\, October 2\, 2025 \nFees\n$30.00.  (Includes accompanist fee) Non-NVMTA members have to pay the $50 fee (per student per event) plus registration fee.  All fees are non-refundable. Non-member fees can be paid HERE. \nApplication Requirements\n1.  Please register at new.mtfest.com.  Register under “Universal Application”. \n2.  Pay fee online through new.mtfest.com.  Click on Billing\, then click on the $ next to the event.  Pay with Visa or Mastercard.  After payment is made\, you may print a copy of the invoice for your records. \nChair(s)\nBharati Soman and Nicole Lamm \nEligibility\nStudents in grades 6-12 who study with an NVMTA member. Adult students may participate for comments only. \nRepertoire  Requirements\nDivisions I-III [I = MS grades 6-8; II = HS grades 9-10; III = HS grades 11-12]:  each student will have a total of 3 minutes to perform two contrasting musical theater cuts (traditionally called 32-bar cuts: approximately one minute each). \nComments Only: same as above [Students of any age\, including adults\, may participate for comments only. On the Universal Application\, choose “Adult” under Age (regardless of the student’s actual age) to register for comments only.] \nDivisions may be adjusted\, if warranted\, by the number and age of applicants.  Students whose repertoire does not follow the judging standards set out below\, will be eligible for comments only. \nA LEGAL copy (hard copy) of sheet music (including piano accompaniment) must be presented at check-in on the day of the competition. Digitally purchased sheet music MUST include the cover page with the “Authorized for Use By…” notice. \nJudging Standards\nAdjudicators will be listening for a demonstrated ability to sing a healthy belt/mix as well as era-appropriate “legit” technique.  The student’s goal should be to present contrasting song selections that will allow their technical\, musical\, artistic\, and theatrical grasp of the wide range of musical theater styles and techniques to be displayed.  For example\, a student could sing a Golden Age song using legit sound and an up-tempo contemporary song incorporating a healthy belt/mix.  Or a singer could select two contrasting contemporary musical theatre songs where one song is a ballad and the second song is an up-tempo.  Judges will also be paying attention to how effectively a singing actor can portray emotion on the stage\, how well they embody their character\, etc. \nAwards\nJudges will award 1st ($200)\, 2nd ($100)\, and 3rd ($50) places in each division.   At their discretion\, they may also choose to award Honorable Mentions to deserving students. \nAccompaniment Guidelines\nAn accompanist WILL be provided\, and ALL participants MUST use the provided accompanist. Students MAY NOT rehearse with the hired accompanist prior to the competition. \nTeacher Guidelines\nParticipating teachers are expected to assist the chair(s) as needed based on the number of students enrolled\, regardless of subsequent student withdrawals. Student MUST study individually\, directly and regularly with the registering teacher. Teachers must agree to abide by the Rules of Competitive Events published by NVMTA and to the Teacher Responsibilities.  All judges’ decisions are final.
URL:https://nvmta.org/event/musical-theater-competition/
CATEGORIES:Student Events
END:VEVENT
BEGIN:VEVENT
DTSTART;TZID=America/New_York:20251026T193000
DTEND;TZID=America/New_York:20251026T203000
DTSTAMP:20260424T033122
CREATED:20181004T181553Z
LAST-MODIFIED:20251004T005110Z
UID:10638-1761507000-1761510600@nvmta.org
SUMMARY:Adult Student Rehearsal Workshops--October
DESCRIPTION:DETAILS\nIn a friendly and welcoming environment\, we talk about our pieces\, perform for a warm and supportive audience\, and learn how we can develop our playing through constructive suggestions. We also enjoy each others’ company\, support each others’ journeys\, and have fun! \nThese are open REHEARSALS\, not recitals. We expect to hear pieces that are “in progress” in addition to those that are more “complete.” We welcome interested and serious students to share even brief sections of pieces. We want to hear\, share\, and celebrate the process of students’ learning and incremental progress. \nApplication Requirements\nWorkshops are held select Sundays of most months. Choose which workshops to attend: we welcome students to attend just one class\, or a handful\, or all classes. To register\, send an email to ahorowit@yahoo.com. There is no fee. Register any time up until the Wednesday before the workshop. \nEmail Deadline\nThe Wednesday prior to each workshop. Because space is limited\, registration may close earlier than this deadline if the workshop is full. \nEligibility\nIn order to enter NTMVA student events\, either the teacher or student must live in Northern Virginia\, or\, the lessons must be taught in Northern Virginia.
URL:https://nvmta.org/event/adult-student-rehearsal-workshops/
CATEGORIES:Student Events
END:VEVENT
END:VCALENDAR