BEGIN:VCALENDAR
VERSION:2.0
PRODID:-//Northern Virginia Music Teachers Association - ECPv6.15.20//NONSGML v1.0//EN
CALSCALE:GREGORIAN
METHOD:PUBLISH
X-ORIGINAL-URL:https://nvmta.org
X-WR-CALDESC:Events for Northern Virginia Music Teachers Association
REFRESH-INTERVAL;VALUE=DURATION:PT1H
X-Robots-Tag:noindex
X-PUBLISHED-TTL:PT1H
BEGIN:VTIMEZONE
TZID:America/New_York
BEGIN:DAYLIGHT
TZOFFSETFROM:-0500
TZOFFSETTO:-0400
TZNAME:EDT
DTSTART:20240310T070000
END:DAYLIGHT
BEGIN:STANDARD
TZOFFSETFROM:-0400
TZOFFSETTO:-0500
TZNAME:EST
DTSTART:20241103T060000
END:STANDARD
BEGIN:DAYLIGHT
TZOFFSETFROM:-0500
TZOFFSETTO:-0400
TZNAME:EDT
DTSTART:20250309T070000
END:DAYLIGHT
BEGIN:STANDARD
TZOFFSETFROM:-0400
TZOFFSETTO:-0500
TZNAME:EST
DTSTART:20251102T060000
END:STANDARD
BEGIN:DAYLIGHT
TZOFFSETFROM:-0500
TZOFFSETTO:-0400
TZNAME:EDT
DTSTART:20260308T070000
END:DAYLIGHT
BEGIN:STANDARD
TZOFFSETFROM:-0400
TZOFFSETTO:-0500
TZNAME:EST
DTSTART:20261101T060000
END:STANDARD
END:VTIMEZONE
BEGIN:VEVENT
DTSTART;VALUE=DATE:20250116
DTEND;VALUE=DATE:20250117
DTSTAMP:20260424T212850
CREATED:20180930T213430Z
LAST-MODIFIED:20241218T204103Z
UID:10461-1736985600-1737071999@nvmta.org
SUMMARY:Deadline:  Bach Baroque Festival & Competition
DESCRIPTION:Bach Baroque details
URL:https://nvmta.org/event/registration-deadline-bach-baroque-festival-competition/
CATEGORIES:Student Events
END:VEVENT
BEGIN:VEVENT
DTSTART;VALUE=DATE:20250123
DTEND;VALUE=DATE:20250124
DTSTAMP:20260424T212850
CREATED:20180926T125404Z
LAST-MODIFIED:20240724T170910Z
UID:10280-1737590400-1737676799@nvmta.org
SUMMARY:Registration Deadline:  Judged Recital -February
DESCRIPTION:Judged Recital Overview
URL:https://nvmta.org/event/registration-deadline-january-judged-recital/
CATEGORIES:Student Events
END:VEVENT
BEGIN:VEVENT
DTSTART;VALUE=DATE:20250130
DTEND;VALUE=DATE:20250131
DTSTAMP:20260424T212850
CREATED:20190729T182023Z
LAST-MODIFIED:20250917T144525Z
UID:12349-1738195200-1738281599@nvmta.org
SUMMARY:Financial Award Application Due Date
DESCRIPTION:See this link for more information: https://nvmta.org/nvmta-financial-assistance-scholarships-overview/
URL:https://nvmta.org/event/financial-award-application-due-date/
CATEGORIES:Student Events,Teacher Events
END:VEVENT
END:VCALENDAR